BEGIN:VCALENDAR
VERSION:2.0
PRODID:-//Klosterwelt Pommern - ECPv6.13.2.1//NONSGML v1.0//EN
CALSCALE:GREGORIAN
METHOD:PUBLISH
X-ORIGINAL-URL:https://klosterwelt-pommern.de
X-WR-CALDESC:Veranstaltungen für Klosterwelt Pommern
REFRESH-INTERVAL;VALUE=DURATION:PT1H
X-Robots-Tag:noindex
X-PUBLISHED-TTL:PT1H
BEGIN:VTIMEZONE
TZID:Europe/Berlin
BEGIN:DAYLIGHT
TZOFFSETFROM:+0100
TZOFFSETTO:+0200
TZNAME:CEST
DTSTART:20220327T010000
END:DAYLIGHT
BEGIN:STANDARD
TZOFFSETFROM:+0200
TZOFFSETTO:+0100
TZNAME:CET
DTSTART:20221030T010000
END:STANDARD
END:VTIMEZONE
BEGIN:VEVENT
DTSTART;TZID=Europe/Berlin:20220611T140000
DTEND;TZID=Europe/Berlin:20220611T153000
DTSTAMP:20260423T124425
CREATED:20220725T075433Z
LAST-MODIFIED:20220810T171534Z
UID:2831-1654956000-1654961400@klosterwelt-pommern.de
SUMMARY:Vortrag in Kulice\, Polen
DESCRIPTION:Kulice/Külz\, Internationales Zentrum für interdisziplinäre Studien der Universität Stettin\, P-71-209 Kulice. \nFates of Pomeranian Monasteries in the post-Reformation Period – Historical and Archaeological Research on selected Examples from Western Pomerania \nVortrag im Rahmen der Tagung In the Castle\, in the Monastery\, in the Town. The Culture of the Baltic World in the Middle Ages and Modern Times vom 09. bis 11.06.2022. \nVortrag von Robert Harlaß und Andreas Kieseler.
URL:https://klosterwelt-pommern.de/veranstaltung/vortrag-in-kulice-polen-2/
LOCATION:Internationales Zentrum für interdisziplinäre Studien der Universität Stettin\, Kulice 24\, Kulice\, 72-200\, Polen
END:VEVENT
BEGIN:VEVENT
DTSTART;TZID=Europe/Berlin:20220625T103000
DTEND;TZID=Europe/Berlin:20220625T110000
DTSTAMP:20260423T124425
CREATED:20220725T075049Z
LAST-MODIFIED:20220810T171530Z
UID:2824-1656153000-1656154800@klosterwelt-pommern.de
SUMMARY:Vortrag in Schwerin
DESCRIPTION:Schwerin\, Wichernsaal\, Apothekerstraße 48\, 19055 Schwerin. \nDas Klosterbuch Pommern – ein interdisziplinäres Projekt von europäischer Reichweite \nVortrag im Rahmen der Tagung Historische Prägungen in der Nordkirche. Kirchengeschichtstagung zum 10jährigen Bestehen der Nordkirche am 25. Juni 2022. \nVortrag von Robert Harlaß.
URL:https://klosterwelt-pommern.de/veranstaltung/vortrag-in-schwerin/
LOCATION:Schwerin\, Wichernsaal\, Apothekerstraße 48\, Schwerin\, Mecklenburg-Vorpommern\, 19055\, Deutschland
END:VEVENT
END:VCALENDAR